BEGIN:VCALENDAR
VERSION:2.0
PRODID:Events Booking
BEGIN:VEVENT
UID:69e9ea9a5c8dd
SUMMARY:Brockenstube
DESCRIPTION:
DTSTART:20260206T080000Z
DTSTAMP:20240115T082634Z
ORGANIZER;CN=Gemeinnütziger Frauenverein Münchenbuchsee :MAILTO:no-reply@
 unser-gfm.ch
END:VEVENT
END:VCALENDAR