BEGIN:VCALENDAR
VERSION:2.0
PRODID:Events Booking
BEGIN:VEVENT
UID:69e9f9f0175a7
SUMMARY:Brockenstube
DESCRIPTION:
DTSTART:20261107T090000Z
DTSTAMP:20240115T082634Z
ORGANIZER;CN=Gemeinnütziger Frauenverein Münchenbuchsee :MAILTO:no-reply@
 unser-gfm.ch
END:VEVENT
END:VCALENDAR