BEGIN:VCALENDAR
VERSION:2.0
PRODID:Events Booking
BEGIN:VEVENT
UID:69e9fc15e2c21
SUMMARY:Brockenstube
DESCRIPTION:
DTSTART:20260918T070000Z
DTSTAMP:20240115T082634Z
ORGANIZER;CN=Gemeinnütziger Frauenverein Münchenbuchsee :MAILTO:no-reply@
 unser-gfm.ch
END:VEVENT
END:VCALENDAR