BEGIN:VCALENDAR
VERSION:2.0
PRODID:Events Booking
BEGIN:VEVENT
UID:69e9d94d3ed21
SUMMARY:Advent Café 2026
DESCRIPTION:Gerne erwarten wir Sie wieder zu einem gemütlichen Kaffee mit 
 Gipfeli und hören zusammen eine Weihnachtsgeschichte.
LOCATION:Obedorfstrasse\, Münchenbuchsee\, 3053 Bern\, Schweiz
DTSTART:20261208T080000Z
DTEND:20261208T100000Z
DTSTAMP:20240113T105129Z
ORGANIZER;CN=Gemeinnütziger Frauenverein Münchenbuchsee :MAILTO:no-reply@
 unser-gfm.ch
GEO:47.021222;7.448546
X-APPLE-STRUCTURED-LOCATION;VALUE=URI;X-ADDRESS=Obedorfstrasse\, Münchenbu
 chsee\, 3053 Bern\, Schweiz;X-APPLE-RADIUS=72;X-TITLE=Kirchgemeindehaus M
 ünchenbuchsee:47.021222;7.448546
END:VEVENT
END:VCALENDAR