BEGIN:VCALENDAR
VERSION:2.0
PRODID:Events Booking
BEGIN:VEVENT
UID:69e9d9c640242
SUMMARY:Besuch im Centre Albert Anker\, Ins
DESCRIPTION:Mitten im idyllischen Dorf Ins steht ein stattliches Bauernhaus
  mit breit ausladendem\, tief hinuntergezogenem Ziegeldach. Hier wurde Alb
 ert Anker am 1. April 1831 geboren\, hier verbrachte er den grössten Teil
  seines Lebens – und hier verstarb er 1910 im Alter von 79 Jahren.
DTSTART:20260429T120000Z
DTSTAMP:20260331T123438Z
ORGANIZER;CN=Gemeinnütziger Frauenverein Münchenbuchsee :MAILTO:no-reply@
 unser-gfm.ch
END:VEVENT
END:VCALENDAR