BEGIN:VCALENDAR
VERSION:2.0
PRODID:Events Booking
BEGIN:VEVENT
UID:69e9da346ca14
SUMMARY:GFM Café im November  
DESCRIPTION:Lassen Sie sich bei guten Gesprächen und heiterer Stimmung im 
 herbstlich geschmückten Saal des Kirchgemeindehauses verwöhnen und bedie
 nen.
LOCATION:Obedorfstrasse\, Münchenbuchsee\, 3053 Bern\, Schweiz
DTSTART:20261127T103000Z
DTEND:20261127T133000Z
DTSTAMP:20240113T104121Z
ORGANIZER;CN=Gemeinnütziger Frauenverein Münchenbuchsee :MAILTO:no-reply@
 unser-gfm.ch
GEO:47.021222;7.448546
X-APPLE-STRUCTURED-LOCATION;VALUE=URI;X-ADDRESS=Obedorfstrasse\, Münchenbu
 chsee\, 3053 Bern\, Schweiz;X-APPLE-RADIUS=72;X-TITLE=Kirchgemeindehaus M
 ünchenbuchsee:47.021222;7.448546
END:VEVENT
END:VCALENDAR