BEGIN:VCALENDAR
VERSION:2.0
PRODID:Events Booking
BEGIN:VEVENT
UID:69e9dac7a8032
SUMMARY:Hansjoggeli – ein Volksstück von Simon Burkhalter\, frei nach Go
 tthelf
DESCRIPTION:Zum allerletzten Mal auf der Freilichtbühne MOOSEGG
 Hansjogg
 eli\, ein wohlhabender\, wird allmählich älter und schwächer. Seine zah
 lreichen Verwandten umschmeicheln den begehrten Erbvetter mit Komplimenten
 \, Geschenken und gut gemeinten Ratschlägen. Als Hansjoggeli stirbt\, wir
 d die mit vielen Überraschungen verbundene Testamentseröffnung zeigen\, 
 wer letztendlich zu den Erben des begehrten Vetters gehört.
DTSTART:20260812T163000Z
DTEND:20260812T214500Z
DTSTAMP:20260331T120141Z
ORGANIZER;CN=Gemeinnütziger Frauenverein Münchenbuchsee :MAILTO:no-reply@
 unser-gfm.ch
END:VEVENT
END:VCALENDAR