BEGIN:VCALENDAR
VERSION:2.0
PRODID:Events Booking
BEGIN:VEVENT
UID:69e9dac741cdb
SUMMARY:«Tanznachmittag für Senior*innen» mit Live-Musik
DESCRIPTION:Vergessen Sie für kurze Zeit den Alltag und geniessen Sie eine
 n fröhlichen\, schwungvollen Nachmittag.
 Es sind Alle (auch Nichtmitgli
 eder) herzlich willkommen!
LOCATION:Obedorfstrasse\, Münchenbuchsee\, 3053 Bern\, Schweiz
DTSTART:20261022T120000Z
DTEND:20261022T143000Z
DTSTAMP:20240112T165959Z
ORGANIZER;CN=Gemeinnütziger Frauenverein Münchenbuchsee :MAILTO:no-reply@
 unser-gfm.ch
GEO:47.021222;7.448546
X-APPLE-STRUCTURED-LOCATION;VALUE=URI;X-ADDRESS=Obedorfstrasse\, Münchenbu
 chsee\, 3053 Bern\, Schweiz;X-APPLE-RADIUS=72;X-TITLE=Kirchgemeindehaus M
 ünchenbuchsee:47.021222;7.448546
END:VEVENT
END:VCALENDAR