BEGIN:VCALENDAR
VERSION:2.0
PRODID:Events Booking
BEGIN:VEVENT
UID:69e9da903890a
SUMMARY:Vereinsreise in die Romandie – FR / VD / FR
DESCRIPTION:Die diesjährige Reise führt uns in die französischsprachige 
 Schweiz.
DTSTART:20260521T054500Z
DTEND:20260521T170000Z
DTSTAMP:20240221T063829Z
ORGANIZER;CN=Gemeinnütziger Frauenverein Münchenbuchsee :MAILTO:no-reply@
 unser-gfm.ch
END:VEVENT
END:VCALENDAR