BEGIN:VCALENDAR
VERSION:2.0
PRODID:Events Booking
BEGIN:VEVENT
UID:69e9ef3b45a6f
SUMMARY:Gedächtnistraining gegen den grauen Alltag
DESCRIPTION:Lustvolles Gedächtnistraining soll im Alltag erfreuen und glei
 chzeitig Strategien anbieten\, das Gehirn anzuregen.
LOCATION:Obedorfstrasse\, Münchenbuchsee\, 3053 Bern\, Schweiz
DTSTART:20260304T084500Z
DTEND:20260304T101500Z
DTSTAMP:20240112T121449Z
ORGANIZER;CN=Gemeinnütziger Frauenverein Münchenbuchsee :MAILTO:no-reply@
 unser-gfm.ch
GEO:47.021222;7.448546
X-APPLE-STRUCTURED-LOCATION;VALUE=URI;X-ADDRESS=Obedorfstrasse\, Münchenbu
 chsee\, 3053 Bern\, Schweiz;X-APPLE-RADIUS=72;X-TITLE=Kirchgemeindehaus M
 ünchenbuchsee:47.021222;7.448546
END:VEVENT
END:VCALENDAR