BEGIN:VCALENDAR
VERSION:2.0
PRODID:Events Booking
BEGIN:VEVENT
UID:69e9d991d9557
SUMMARY:Senior*innenessen
DESCRIPTION:
DTSTART:20260507T100000Z
DTSTAMP:20240112T195217Z
ORGANIZER;CN=Gemeinnütziger Frauenverein Münchenbuchsee :MAILTO:no-reply@
 unser-gfm.ch
END:VEVENT
END:VCALENDAR