BEGIN:VCALENDAR
VERSION:2.0
PRODID:Events Booking
BEGIN:VEVENT
UID:69e9da96a684a
SUMMARY:«Zäme geits ringer»\, das etwas andere Kreativatelier 
DESCRIPTION:
DTSTART:20260106T130000Z
DTSTAMP:20240112T192539Z
ORGANIZER;CN=Gemeinnütziger Frauenverein Münchenbuchsee :MAILTO:no-reply@
 unser-gfm.ch
END:VEVENT
END:VCALENDAR